   BEGIN:VCALENDAR
VERSION:2.0
PRODID:-//Whinney Banks Primary School - ECPv6.9.0//NONSGML v1.0//EN
CALSCALE:GREGORIAN
METHOD:PUBLISH
X-ORIGINAL-URL:https://whinneybanks.org.uk
X-WR-CALDESC:Events for Whinney Banks Primary School
REFRESH-INTERVAL;VALUE=DURATION:PT1H
X-Robots-Tag:noindex
X-PUBLISHED-TTL:PT1H
BEGIN:VTIMEZONE
TZID:UTC
BEGIN:STANDARD
TZOFFSETFROM:+0000
TZOFFSETTO:+0000
TZNAME:UTC
DTSTART:20230101T000000
END:STANDARD
END:VTIMEZONE
BEGIN:VEVENT
DTSTART;TZID=UTC:20231012T153000
DTEND;TZID=UTC:20231012T173000
DTSTAMP:20260424T011555
CREATED:20231012T132126Z
LAST-MODIFIED:20231012T132126Z
UID:8450-1697124600-1697131800@whinneybanks.org.uk
SUMMARY:Autumn Parents Evening
DESCRIPTION:Teacher(s) available for parents evening: Mrs Adams\, Mr Shaw\, Miss Verrill\, Miss Harrison\, Mrs Garbutt\, Mrs Leete\, Mr Cuthbertson\, Mr Bell\, Mrs Cavill\, Mrs Lonsdale\, Mrs Allan\, Mrs Mackfall\, Ms Ronsano\, Mr Grimes\, Miss Gordon\, Mr Darcy\, Mrs Watson\, Mrs Coe\, Miss Maynard\, Miss Biggs \nEvent Description\nParents evening is a great opportunity to discuss your child’s progress in school. \nView Event
URL:https://whinneybanks.org.uk/event/autumn-parents-evening-2/
END:VEVENT
BEGIN:VEVENT
DTSTART;TZID=UTC:20231012T153000
DTEND;TZID=UTC:20231012T173000
DTSTAMP:20260424T011555
CREATED:20231012T141650Z
LAST-MODIFIED:20231012T141650Z
UID:8461-1697124600-1697131800@whinneybanks.org.uk
SUMMARY:Autumn Parents Evening - Thursday 26th October
DESCRIPTION:Teacher(s) available for parents evening: Mrs Adams\, Mr Shaw\, Miss Verrill\, Miss Harrison\, Mrs Garbutt\, Mrs Leete\, Mrs Cavill\, Mrs Lonsdale\, Mrs Mackfall\, Ms Ronsano\, Mr Grimes\, Miss Gordon\, Mr Darcy\, Mrs Coe\, Miss Maynard\, Miss Biggs \nEvent Description\nParents evening is a great opportunity to discuss your child’s progress in school. \nView Event
URL:https://whinneybanks.org.uk/event/autumn-parents-evening-thursday-26th-october/
END:VEVENT
BEGIN:VEVENT
DTSTART;TZID=UTC:20231012T170000
DTEND;TZID=UTC:20231012T190000
DTSTAMP:20260424T011555
CREATED:20231012T131726Z
LAST-MODIFIED:20231012T131726Z
UID:8447-1697130000-1697137200@whinneybanks.org.uk
SUMMARY:Autumn Parents Evening
DESCRIPTION:Teacher(s) available for parents evening: Mrs Adams\, Mr Shaw\, Miss Verrill\, Miss Harrison\, Mrs Garbutt\, Mrs Leete\, Mr Cuthbertson\, Mr Bell\, Mrs Cavill\, Mrs Lonsdale\, Mrs Allan\, Mrs Mackfall\, Ms Ronsano\, Mr Grimes\, Miss Gordon\, Mr Darcy\, Natalie Watson\, Mrs Coe\, Miss Maynard\, Miss Biggs \nEvent Description\nParents evening is a great opportunity to discuss your child’s progress in school. \nView Event
URL:https://whinneybanks.org.uk/event/autumn-parents-evening/
END:VEVENT
BEGIN:VEVENT
DTSTART;TZID=UTC:20231012T170000
DTEND;TZID=UTC:20231012T190000
DTSTAMP:20260424T011555
CREATED:20231012T132730Z
LAST-MODIFIED:20231012T132730Z
UID:8455-1697130000-1697137200@whinneybanks.org.uk
SUMMARY:Autumn Parents Evening - Wednesday 25th October
DESCRIPTION:Teacher(s) available for parents evening: Mrs Adams\, Mr Shaw\, Miss Verrill\, Miss Harrison\, Mrs Garbutt\, Mrs Leete\, Mr Cuthbertson\, Mr Bell\, Mrs Cavill\, Mrs Lonsdale\, Mrs Allan\, Mrs Mackfall\, Ms Ronsano\, Mr Grimes\, Miss Gordon\, Mr Darcy\, Mrs Colegate\, Natalie Watson\, Mrs Coe\, Miss Maynard\, Miss Biggs \nEvent Description\nParents evening is a great opportunity to discuss your child’s progress in school. \nView Event
URL:https://whinneybanks.org.uk/event/autumn-parents-evening-wednesday-25th-october/
END:VEVENT
END:VCALENDAR