   BEGIN:VCALENDAR
VERSION:2.0
PRODID:-//Whinney Banks Primary School - ECPv6.9.0//NONSGML v1.0//EN
CALSCALE:GREGORIAN
METHOD:PUBLISH
X-WR-CALNAME:Whinney Banks Primary School
X-ORIGINAL-URL:https://whinneybanks.org.uk
X-WR-CALDESC:Events for Whinney Banks Primary School
REFRESH-INTERVAL;VALUE=DURATION:PT1H
X-Robots-Tag:noindex
X-PUBLISHED-TTL:PT1H
BEGIN:VTIMEZONE
TZID:UTC
BEGIN:STANDARD
TZOFFSETFROM:+0000
TZOFFSETTO:+0000
TZNAME:UTC
DTSTART:20230101T000000
END:STANDARD
END:VTIMEZONE
BEGIN:VEVENT
DTSTART;TZID=UTC:20231013T090000
DTEND;TZID=UTC:20231013T150000
DTSTAMP:20260424T022157
CREATED:20231012T100244Z
LAST-MODIFIED:20231012T100244Z
UID:8431-1697187600-1697209200@whinneybanks.org.uk
SUMMARY:Year 2 - St Mary's Lighthouse Trip\, Whitley Bay
DESCRIPTION:Children will return for the end of the school day at 3.10pm
URL:https://whinneybanks.org.uk/event/year-2-st-marys-lighthouse-trip-whitley-bay/
END:VEVENT
BEGIN:VEVENT
DTSTART;TZID=UTC:20231013T153000
DTEND;TZID=UTC:20231013T183000
DTSTAMP:20260424T022157
CREATED:20231013T135111Z
LAST-MODIFIED:20231013T135111Z
UID:8489-1697211000-1697221800@whinneybanks.org.uk
SUMMARY:Autumn Parents Evening Year 6 - Wednesday 25th October
DESCRIPTION:Teacher(s) available for parents evening: Mr Cuthbertson\, Mr Bell\, Mrs Allan\, Natalie Watson \nEvent Description\nThis a great opportunity for parents/carers to discuss their child’s progress in the new school year. \nView Event
URL:https://whinneybanks.org.uk/event/autumn-parents-evening-year-6-wednesday-25th-october/
END:VEVENT
BEGIN:VEVENT
DTSTART;TZID=UTC:20231013T170000
DTEND;TZID=UTC:20231013T190000
DTSTAMP:20260424T022157
CREATED:20231013T122936Z
LAST-MODIFIED:20231013T122936Z
UID:8481-1697216400-1697223600@whinneybanks.org.uk
SUMMARY:Autumn Parents Evening - Year 6
DESCRIPTION:Teacher(s) available for parents evening: Mr Cuthbertson\, Mr Bell\, Mrs Allan\, Natalie Watson \nEvent Description\nThis a great opportunity for parents/carers to discuss their child’s progress in the new school year. \nView Event
URL:https://whinneybanks.org.uk/event/autumn-parents-evening-year-6/
END:VEVENT
END:VCALENDAR