   BEGIN:VCALENDAR
VERSION:2.0
PRODID:-//Whinney Banks Primary School - ECPv6.9.0//NONSGML v1.0//EN
CALSCALE:GREGORIAN
METHOD:PUBLISH
X-ORIGINAL-URL:https://whinneybanks.org.uk
X-WR-CALDESC:Events for Whinney Banks Primary School
REFRESH-INTERVAL;VALUE=DURATION:PT1H
X-Robots-Tag:noindex
X-PUBLISHED-TTL:PT1H
BEGIN:VTIMEZONE
TZID:UTC
BEGIN:STANDARD
TZOFFSETFROM:+0000
TZOFFSETTO:+0000
TZNAME:UTC
DTSTART:20230101T000000
END:STANDARD
END:VTIMEZONE
BEGIN:VEVENT
DTSTART;TZID=UTC:20231020T153000
DTEND;TZID=UTC:20231020T183000
DTSTAMP:20260424T011555
CREATED:20231020T084703Z
LAST-MODIFIED:20231020T084703Z
UID:8518-1697815800-1697826600@whinneybanks.org.uk
SUMMARY:Nursery Parents Evening - Thursday 26 October
DESCRIPTION:Teacher(s) available for parents evening: Mrs Colegate\, Mrs King \nView Event
URL:https://whinneybanks.org.uk/event/nursery-parents-evening-thursday-26-october/
END:VEVENT
BEGIN:VEVENT
DTSTART;TZID=UTC:20231020T170000
DTEND;TZID=UTC:20231020T190000
DTSTAMP:20260424T011555
CREATED:20231020T084522Z
LAST-MODIFIED:20231020T084522Z
UID:8516-1697821200-1697828400@whinneybanks.org.uk
SUMMARY:Nursery Parents Evening - Wednesday 25 October
DESCRIPTION:Teacher(s) available for parents evening: Mrs Colegate \nView Event
URL:https://whinneybanks.org.uk/event/nursery-parents-evening-wednesday-25-october/
END:VEVENT
END:VCALENDAR