   BEGIN:VCALENDAR
VERSION:2.0
PRODID:-//Whinney Banks Primary School - ECPv6.9.0//NONSGML v1.0//EN
CALSCALE:GREGORIAN
METHOD:PUBLISH
X-ORIGINAL-URL:https://whinneybanks.org.uk
X-WR-CALDESC:Events for Whinney Banks Primary School
REFRESH-INTERVAL;VALUE=DURATION:PT1H
X-Robots-Tag:noindex
X-PUBLISHED-TTL:PT1H
BEGIN:VTIMEZONE
TZID:UTC
BEGIN:STANDARD
TZOFFSETFROM:+0000
TZOFFSETTO:+0000
TZNAME:UTC
DTSTART:20230101T000000
END:STANDARD
END:VTIMEZONE
BEGIN:VEVENT
DTSTART;TZID=UTC:20231113T080000
DTEND;TZID=UTC:20231117T153000
DTSTAMP:20260423T233758
CREATED:20231109T105321Z
LAST-MODIFIED:20231109T105321Z
UID:8601-1699862400-1700235000@whinneybanks.org.uk
SUMMARY:Book Fair week
DESCRIPTION:Open to parents on Wednesday 15th and Thursday 16th between 2.30 and 3.30 via the NURSERY ENTRANCE
URL:https://whinneybanks.org.uk/event/book-fair-week/
END:VEVENT
END:VCALENDAR