   BEGIN:VCALENDAR
VERSION:2.0
PRODID:-//Whinney Banks Primary School - ECPv6.9.0//NONSGML v1.0//EN
CALSCALE:GREGORIAN
METHOD:PUBLISH
X-ORIGINAL-URL:https://whinneybanks.org.uk
X-WR-CALDESC:Events for Whinney Banks Primary School
REFRESH-INTERVAL;VALUE=DURATION:PT1H
X-Robots-Tag:noindex
X-PUBLISHED-TTL:PT1H
BEGIN:VTIMEZONE
TZID:UTC
BEGIN:STANDARD
TZOFFSETFROM:+0000
TZOFFSETTO:+0000
TZNAME:UTC
DTSTART:20230101T000000
END:STANDARD
END:VTIMEZONE
BEGIN:VEVENT
DTSTART;TZID=UTC:20231124T085000
DTEND;TZID=UTC:20231124T101500
DTSTAMP:20260423T233758
CREATED:20231116T141526Z
LAST-MODIFIED:20231116T141526Z
UID:8656-1700815800-1700820900@whinneybanks.org.uk
SUMMARY:Y2 Parent event
DESCRIPTION:8.50am – 10.15am – entrance from the playground
URL:https://whinneybanks.org.uk/event/y2-parent-event/
END:VEVENT
END:VCALENDAR