   BEGIN:VCALENDAR
VERSION:2.0
PRODID:-//Whinney Banks Primary School - ECPv6.9.0//NONSGML v1.0//EN
CALSCALE:GREGORIAN
METHOD:PUBLISH
X-WR-CALNAME:Whinney Banks Primary School
X-ORIGINAL-URL:https://whinneybanks.org.uk
X-WR-CALDESC:Events for Whinney Banks Primary School
REFRESH-INTERVAL;VALUE=DURATION:PT1H
X-Robots-Tag:noindex
X-PUBLISHED-TTL:PT1H
BEGIN:VTIMEZONE
TZID:UTC
BEGIN:STANDARD
TZOFFSETFROM:+0000
TZOFFSETTO:+0000
TZNAME:UTC
DTSTART:20230101T000000
END:STANDARD
END:VTIMEZONE
BEGIN:VEVENT
DTSTART;TZID=UTC:20231208T100000
DTEND;TZID=UTC:20231208T120000
DTSTAMP:20260423T221752
CREATED:20231109T110039Z
LAST-MODIFIED:20231109T111007Z
UID:8614-1702029600-1702036800@whinneybanks.org.uk
SUMMARY:Year 3 and 4 Christingle Performance
DESCRIPTION:St Martins Church
URL:https://whinneybanks.org.uk/event/year-3-and-4-christmas-performance/
END:VEVENT
BEGIN:VEVENT
DTSTART;TZID=UTC:20231208T100000
DTEND;TZID=UTC:20231208T120000
DTSTAMP:20260423T221752
CREATED:20231109T110103Z
LAST-MODIFIED:20231109T110605Z
UID:8616-1702029600-1702036800@whinneybanks.org.uk
SUMMARY:Year 3 and 4 Christingle Performance
DESCRIPTION:St Martins Church
URL:https://whinneybanks.org.uk/event/year-3-and-4-christmas-performance-2/
END:VEVENT
END:VCALENDAR