   BEGIN:VCALENDAR
VERSION:2.0
PRODID:-//Whinney Banks Primary School - ECPv6.9.0//NONSGML v1.0//EN
CALSCALE:GREGORIAN
METHOD:PUBLISH
X-WR-CALNAME:Whinney Banks Primary School
X-ORIGINAL-URL:https://whinneybanks.org.uk
X-WR-CALDESC:Events for Whinney Banks Primary School
REFRESH-INTERVAL;VALUE=DURATION:PT1H
X-Robots-Tag:noindex
X-PUBLISHED-TTL:PT1H
BEGIN:VTIMEZONE
TZID:UTC
BEGIN:STANDARD
TZOFFSETFROM:+0000
TZOFFSETTO:+0000
TZNAME:UTC
DTSTART:20230101T000000
END:STANDARD
END:VTIMEZONE
BEGIN:VEVENT
DTSTART;TZID=UTC:20231212T133000
DTEND;TZID=UTC:20231212T143000
DTSTAMP:20260423T222326
CREATED:20231109T105939Z
LAST-MODIFIED:20231109T110854Z
UID:8610-1702387800-1702391400@whinneybanks.org.uk
SUMMARY:Year 1 and 2 Christmas Performance
DESCRIPTION:
URL:https://whinneybanks.org.uk/event/year-1-and-2-christmas-performance/
END:VEVENT
END:VCALENDAR