   BEGIN:VCALENDAR
VERSION:2.0
PRODID:-//Whinney Banks Primary School - ECPv6.9.0//NONSGML v1.0//EN
CALSCALE:GREGORIAN
METHOD:PUBLISH
X-ORIGINAL-URL:https://whinneybanks.org.uk
X-WR-CALDESC:Events for Whinney Banks Primary School
REFRESH-INTERVAL;VALUE=DURATION:PT1H
X-Robots-Tag:noindex
X-PUBLISHED-TTL:PT1H
BEGIN:VTIMEZONE
TZID:UTC
BEGIN:STANDARD
TZOFFSETFROM:+0000
TZOFFSETTO:+0000
TZNAME:UTC
DTSTART:20230101T000000
END:STANDARD
END:VTIMEZONE
BEGIN:VEVENT
DTSTART;TZID=UTC:20231220T080000
DTEND;TZID=UTC:20231220T170000
DTSTAMP:20260423T221301
CREATED:20231109T105632Z
LAST-MODIFIED:20231109T105632Z
UID:8606-1703059200-1703091600@whinneybanks.org.uk
SUMMARY:Nursery Christmas Performance
DESCRIPTION:
URL:https://whinneybanks.org.uk/event/nursery-christmas-performance-2/
END:VEVENT
BEGIN:VEVENT
DTSTART;TZID=UTC:20231220T080000
DTEND;TZID=UTC:20231220T170000
DTSTAMP:20260423T221301
CREATED:20231109T111512Z
LAST-MODIFIED:20231109T111512Z
UID:8628-1703059200-1703091600@whinneybanks.org.uk
SUMMARY:Year 1 Christmas Party
DESCRIPTION:
URL:https://whinneybanks.org.uk/event/year-1-christmas-party-2/
END:VEVENT
BEGIN:VEVENT
DTSTART;TZID=UTC:20231220T080000
DTEND;TZID=UTC:20231220T170000
DTSTAMP:20260423T221301
CREATED:20231109T111606Z
LAST-MODIFIED:20231109T111606Z
UID:8630-1703059200-1703091600@whinneybanks.org.uk
SUMMARY:Year 2 Christmas Party
DESCRIPTION:
URL:https://whinneybanks.org.uk/event/year-2-christmas-party/
END:VEVENT
END:VCALENDAR