   BEGIN:VCALENDAR
VERSION:2.0
PRODID:-//Whinney Banks Primary School - ECPv6.9.0//NONSGML v1.0//EN
CALSCALE:GREGORIAN
METHOD:PUBLISH
X-WR-CALNAME:Whinney Banks Primary School
X-ORIGINAL-URL:https://whinneybanks.org.uk
X-WR-CALDESC:Events for Whinney Banks Primary School
REFRESH-INTERVAL;VALUE=DURATION:PT1H
X-Robots-Tag:noindex
X-PUBLISHED-TTL:PT1H
BEGIN:VTIMEZONE
TZID:UTC
BEGIN:STANDARD
TZOFFSETFROM:+0000
TZOFFSETTO:+0000
TZNAME:UTC
DTSTART:20230101T000000
END:STANDARD
END:VTIMEZONE
BEGIN:VEVENT
DTSTART;VALUE=DATE:20231225
DTEND;VALUE=DATE:20240106
DTSTAMP:20260423T210158
CREATED:20230712T132523Z
LAST-MODIFIED:20230712T132523Z
UID:8368-1703462400-1704499199@whinneybanks.org.uk
SUMMARY:Christmas Break
DESCRIPTION:School re-opens on Monday 8th January 2024
URL:https://whinneybanks.org.uk/event/christmas-break/
END:VEVENT
BEGIN:VEVENT
DTSTART;VALUE=DATE:20231225
DTEND;VALUE=DATE:20240106
DTSTAMP:20260423T210158
CREATED:20230712T133608Z
LAST-MODIFIED:20230712T133916Z
UID:8380-1703462400-1704499199@whinneybanks.org.uk
SUMMARY:Christmas Break
DESCRIPTION:School re-opens Monday 8th January 2024
URL:https://whinneybanks.org.uk/event/christmas-break-2/
END:VEVENT
END:VCALENDAR