   BEGIN:VCALENDAR
VERSION:2.0
PRODID:-//Whinney Banks Primary School - ECPv6.9.0//NONSGML v1.0//EN
CALSCALE:GREGORIAN
METHOD:PUBLISH
X-WR-CALNAME:Whinney Banks Primary School
X-ORIGINAL-URL:https://whinneybanks.org.uk
X-WR-CALDESC:Events for Whinney Banks Primary School
REFRESH-INTERVAL;VALUE=DURATION:PT1H
X-Robots-Tag:noindex
X-PUBLISHED-TTL:PT1H
BEGIN:VTIMEZONE
TZID:UTC
BEGIN:STANDARD
TZOFFSETFROM:+0000
TZOFFSETTO:+0000
TZNAME:UTC
DTSTART:20230101T000000
END:STANDARD
END:VTIMEZONE
BEGIN:VEVENT
DTSTART;VALUE=DATE:20230722
DTEND;VALUE=DATE:20230905
DTSTAMP:20260424T011557
CREATED:20230712T134232Z
LAST-MODIFIED:20230712T134413Z
UID:8382-1689984000-1693871999@whinneybanks.org.uk
SUMMARY:Summer break
DESCRIPTION:School re-opens on Tuesday 5th September 2023
URL:https://whinneybanks.org.uk/event/summer-break/
END:VEVENT
BEGIN:VEVENT
DTSTART;VALUE=DATE:20230901
DTEND;VALUE=DATE:20230902
DTSTAMP:20260424T011557
CREATED:20230712T130326Z
LAST-MODIFIED:20230712T130326Z
UID:8354-1693526400-1693612799@whinneybanks.org.uk
SUMMARY:PD Day
DESCRIPTION:School will be closed to children.
URL:https://whinneybanks.org.uk/event/pd-day-5/
END:VEVENT
BEGIN:VEVENT
DTSTART;VALUE=DATE:20230904
DTEND;VALUE=DATE:20230905
DTSTAMP:20260424T011557
CREATED:20230712T130254Z
LAST-MODIFIED:20230712T130254Z
UID:8352-1693785600-1693871999@whinneybanks.org.uk
SUMMARY:PD Day
DESCRIPTION:School will be closed to children.
URL:https://whinneybanks.org.uk/event/pd-day-4/
END:VEVENT
BEGIN:VEVENT
DTSTART;VALUE=DATE:20230905
DTEND;VALUE=DATE:20230906
DTSTAMP:20260424T011557
CREATED:20230712T134618Z
LAST-MODIFIED:20230712T134618Z
UID:8384-1693872000-1693958399@whinneybanks.org.uk
SUMMARY:School re-opens
DESCRIPTION:Children return to school
URL:https://whinneybanks.org.uk/event/school-re-opens/
END:VEVENT
BEGIN:VEVENT
DTSTART;TZID=UTC:20230913T080000
DTEND;TZID=UTC:20230914T150000
DTSTAMP:20260424T011557
CREATED:20230526T121146Z
LAST-MODIFIED:20230526T124213Z
UID:8150-1694592000-1694703600@whinneybanks.org.uk
SUMMARY:Year 6 London Residential Trip
DESCRIPTION:
URL:https://whinneybanks.org.uk/event/year-6-london-residential-trip/
END:VEVENT
BEGIN:VEVENT
DTSTART;VALUE=DATE:20230915
DTEND;VALUE=DATE:20230916
DTSTAMP:20260424T011557
CREATED:20230712T130350Z
LAST-MODIFIED:20230712T130350Z
UID:8356-1694736000-1694822399@whinneybanks.org.uk
SUMMARY:PD Day
DESCRIPTION:School will be closed to children.
URL:https://whinneybanks.org.uk/event/pd-day-6/
END:VEVENT
END:VCALENDAR